BEGIN:VCALENDAR
VERSION:2.0
PRODID:-//GOZAD MARKETING - ECPv6.15.20//NONSGML v1.0//EN
CALSCALE:GREGORIAN
METHOD:PUBLISH
X-ORIGINAL-URL:https://gozadmarketing.com
X-WR-CALDESC:Events for GOZAD MARKETING
REFRESH-INTERVAL;VALUE=DURATION:PT1H
X-Robots-Tag:noindex
X-PUBLISHED-TTL:PT1H
BEGIN:VTIMEZONE
TZID:America/Chicago
BEGIN:DAYLIGHT
TZOFFSETFROM:-0600
TZOFFSETTO:-0500
TZNAME:CDT
DTSTART:20250309T080000
END:DAYLIGHT
BEGIN:STANDARD
TZOFFSETFROM:-0500
TZOFFSETTO:-0600
TZNAME:CST
DTSTART:20251102T070000
END:STANDARD
BEGIN:DAYLIGHT
TZOFFSETFROM:-0600
TZOFFSETTO:-0500
TZNAME:CDT
DTSTART:20260308T080000
END:DAYLIGHT
BEGIN:STANDARD
TZOFFSETFROM:-0500
TZOFFSETTO:-0600
TZNAME:CST
DTSTART:20261101T070000
END:STANDARD
BEGIN:DAYLIGHT
TZOFFSETFROM:-0600
TZOFFSETTO:-0500
TZNAME:CDT
DTSTART:20270314T080000
END:DAYLIGHT
BEGIN:STANDARD
TZOFFSETFROM:-0500
TZOFFSETTO:-0600
TZNAME:CST
DTSTART:20271107T070000
END:STANDARD
END:VTIMEZONE
BEGIN:VEVENT
DTSTART;TZID=America/Chicago:20260404T130000
DTEND;TZID=America/Chicago:20260404T150000
DTSTAMP:20260423T092318
CREATED:20260407T171141Z
LAST-MODIFIED:20260410T151632Z
UID:10000004-1775307600-1775314800@gozadmarketing.com
SUMMARY:Women in Bio -Volunteer Event at the Food Bank
DESCRIPTION:April 4\, 2026 1-3pm\nFood Bank of Central & Eastern North Carolina – Durham Branch \n 
URL:https://gozadmarketing.com/networking/women-in-bio-volunteer-event-at-the-food-bank/
CATEGORIES:Biotech,WIB - Women in Bio - RTP
END:VEVENT
BEGIN:VEVENT
DTSTART;TZID=America/Chicago:20260407T080000
DTEND;TZID=America/Chicago:20260407T170000
DTSTAMP:20260423T092318
CREATED:20260407T171936Z
LAST-MODIFIED:20260410T151610Z
UID:10000008-1775548800-1775581200@gozadmarketing.com
SUMMARY:Women in Bio - Coffee Chat
DESCRIPTION:Thursday\, April 30th \n9:00am \nMore details coming soon
URL:https://gozadmarketing.com/networking/women-in-bio-coffee-chat-2/
CATEGORIES:Biotech,WIB - Women in Bio - RTP
END:VEVENT
BEGIN:VEVENT
DTSTART;TZID=America/Chicago:20260410T120000
DTEND;TZID=America/Chicago:20260410T130000
DTSTAMP:20260423T092318
CREATED:20260407T171233Z
LAST-MODIFIED:20260410T151550Z
UID:10000005-1775822400-1775826000@gozadmarketing.com
SUMMARY:Women In Bio - Coffee Chat
DESCRIPTION:Friday\, April 10th 12:00pm\nYonderlust Coffee\, Durham
URL:https://gozadmarketing.com/networking/women-in-bio-coffee-chat/
CATEGORIES:Biotech,WIB - Women in Bio - RTP
END:VEVENT
BEGIN:VEVENT
DTSTART;TZID=America/Chicago:20260430T173000
DTEND;TZID=America/Chicago:20260430T210000
DTSTAMP:20260423T092318
CREATED:20260407T172134Z
LAST-MODIFIED:20260410T151322Z
UID:10000009-1777570200-1777582800@gozadmarketing.com
SUMMARY:Women In Bio - RTP and ACRP's DEIB Panel Discussion
DESCRIPTION:Event Details:\nApril 30\, 2026 – 5:30-8:00 PM\nNorth Carolina Biotechnology Center (NCBiotech)\, Durham\, NC \nProgram\n5:30 – 6:00 PM: Check-in & Networking\n6:00 – 7:00 PM: Panel Discussion\n7:00 – 8:00 PM: Networking \nAdditional Information\nWIB Members: $25 | ACRP Members: $25 | Non-members: $35\nFree parking available onsite\nIncludes appetizers and two drink vouchers \n 
URL:https://gozadmarketing.com/networking/women-in-bio-rtp-and-acrps-deib-panel-discussion/
CATEGORIES:Biotech,WIB - Women in Bio - RTP
END:VEVENT
END:VCALENDAR