BEGIN:VCALENDAR
VERSION:2.0
PRODID:-//GOZAD MARKETING - ECPv6.15.20//NONSGML v1.0//EN
CALSCALE:GREGORIAN
METHOD:PUBLISH
X-ORIGINAL-URL:https://gozadmarketing.com
X-WR-CALDESC:Events for GOZAD MARKETING
REFRESH-INTERVAL;VALUE=DURATION:PT1H
X-Robots-Tag:noindex
X-PUBLISHED-TTL:PT1H
BEGIN:VTIMEZONE
TZID:America/Chicago
BEGIN:DAYLIGHT
TZOFFSETFROM:-0600
TZOFFSETTO:-0500
TZNAME:CDT
DTSTART:20250309T080000
END:DAYLIGHT
BEGIN:STANDARD
TZOFFSETFROM:-0500
TZOFFSETTO:-0600
TZNAME:CST
DTSTART:20251102T070000
END:STANDARD
BEGIN:DAYLIGHT
TZOFFSETFROM:-0600
TZOFFSETTO:-0500
TZNAME:CDT
DTSTART:20260308T080000
END:DAYLIGHT
BEGIN:STANDARD
TZOFFSETFROM:-0500
TZOFFSETTO:-0600
TZNAME:CST
DTSTART:20261101T070000
END:STANDARD
BEGIN:DAYLIGHT
TZOFFSETFROM:-0600
TZOFFSETTO:-0500
TZNAME:CDT
DTSTART:20270314T080000
END:DAYLIGHT
BEGIN:STANDARD
TZOFFSETFROM:-0500
TZOFFSETTO:-0600
TZNAME:CST
DTSTART:20271107T070000
END:STANDARD
END:VTIMEZONE
BEGIN:VEVENT
DTSTART;VALUE=DATE:20260422
DTEND;VALUE=DATE:20260423
DTSTAMP:20260423T034217
CREATED:20260407T172959Z
LAST-MODIFIED:20260410T151824Z
UID:10000012-1776816000-1776902399@gozadmarketing.com
SUMMARY:North Carolina Regulatory Affairs Forum (NCRAF) Roundtable Event
DESCRIPTION:For more details visit their website: \nhttps://www.ncraf.org/
URL:https://gozadmarketing.com/networking/north-carolina-regulatory-affairs-forum-ncraf-roundtable-event/
CATEGORIES:Biotech,NCRAF - North Carolina Regulatory Affairs Forum
END:VEVENT
BEGIN:VEVENT
DTSTART;TZID=America/Chicago:20260421T180000
DTEND;TZID=America/Chicago:20260421T210000
DTSTAMP:20260423T034217
CREATED:20260407T171654Z
LAST-MODIFIED:20260410T151431Z
UID:10000007-1776794400-1776805200@gozadmarketing.com
SUMMARY:NCBPNG Monthly Networking Event
DESCRIPTION:Tuesday\, April 21st \n6:00-9:00pm\nLocation to be announced
URL:https://gozadmarketing.com/networking/ncbpng-monthly-networking-event/
CATEGORIES:Biotech,NCBPNG - NC Bio Pharma Networking Group
END:VEVENT
BEGIN:VEVENT
DTSTART;TZID=America/Chicago:20260417T093000
DTEND;TZID=America/Chicago:20260417T103000
DTSTAMP:20260423T034217
CREATED:20260407T171341Z
LAST-MODIFIED:20260410T151515Z
UID:10000006-1776418200-1776421800@gozadmarketing.com
SUMMARY:Charlotte Biotech Club - Coffee & Networking
DESCRIPTION:Friday\, April 17th 9:30-10:30am\nHEX Coffee\, Charlotte
URL:https://gozadmarketing.com/networking/charlotte-biotech-club-coffee-networking/
CATEGORIES:Biotech,CBC - Charlotte Biotech Club
END:VEVENT
BEGIN:VEVENT
DTSTART;TZID=America/Chicago:20260414T173000
DTEND;TZID=America/Chicago:20260414T193000
DTSTAMP:20260423T034217
CREATED:20260406T183722Z
LAST-MODIFIED:20260410T151533Z
UID:10000003-1776187800-1776195000@gozadmarketing.com
SUMMARY:Triangle Biotech Tuesday - Monthly Networking Event
DESCRIPTION:Tuesday\, April 14th \n5:30 PM – 7:30 PM\nTobacco Road Sports Cafe\, Raleigh
URL:https://gozadmarketing.com/networking/triangle-biotech-tuesday-monthly-networking-event/
CATEGORIES:Biotech,TBT - Triangle Biotech Club
END:VEVENT
BEGIN:VEVENT
DTSTART;TZID=America/Chicago:20260410T120000
DTEND;TZID=America/Chicago:20260410T130000
DTSTAMP:20260423T034217
CREATED:20260407T171233Z
LAST-MODIFIED:20260410T151550Z
UID:10000005-1775822400-1775826000@gozadmarketing.com
SUMMARY:Women In Bio - Coffee Chat
DESCRIPTION:Friday\, April 10th 12:00pm\nYonderlust Coffee\, Durham
URL:https://gozadmarketing.com/networking/women-in-bio-coffee-chat/
CATEGORIES:Biotech,WIB - Women in Bio - RTP
END:VEVENT
BEGIN:VEVENT
DTSTART;TZID=America/Chicago:20260407T080000
DTEND;TZID=America/Chicago:20260407T170000
DTSTAMP:20260423T034217
CREATED:20260407T171936Z
LAST-MODIFIED:20260410T151610Z
UID:10000008-1775548800-1775581200@gozadmarketing.com
SUMMARY:Women in Bio - Coffee Chat
DESCRIPTION:Thursday\, April 30th \n9:00am \nMore details coming soon
URL:https://gozadmarketing.com/networking/women-in-bio-coffee-chat-2/
CATEGORIES:Biotech,WIB - Women in Bio - RTP
END:VEVENT
BEGIN:VEVENT
DTSTART;TZID=America/Chicago:20260404T130000
DTEND;TZID=America/Chicago:20260404T150000
DTSTAMP:20260423T034217
CREATED:20260407T171141Z
LAST-MODIFIED:20260410T151632Z
UID:10000004-1775307600-1775314800@gozadmarketing.com
SUMMARY:Women in Bio -Volunteer Event at the Food Bank
DESCRIPTION:April 4\, 2026 1-3pm\nFood Bank of Central & Eastern North Carolina – Durham Branch \n 
URL:https://gozadmarketing.com/networking/women-in-bio-volunteer-event-at-the-food-bank/
CATEGORIES:Biotech,WIB - Women in Bio - RTP
END:VEVENT
END:VCALENDAR